Workbook
Name C.I.A.: #REF!
Name C.I.A.: #REF!
Name C.I.A.: #REF!
Name C.I.A.: #REF!
Name C.I.A.: 'C.I.A.'!$A$3
Name C.I.B.: #REF!
Name C.I.B.: #REF!
Name C.I.B.: #REF!
Name C.I.B.: #REF!
Name C.I.B.: 'C.I.B.'!$A$3
Name C.II.A.: #REF!
Name C.II.A.: #REF!
Name C.II.A.: #REF!
Name C.II.A.: #REF!
Name C.II.A.: 'C.II.A.'!$A$3
Name C.IV.A.1: 'C.IV'!$A$3
Name C.IV.A.1: 'C.IV'!$A$3
Name C.IV.A.1: #REF!
Name C.IV.B.: #REF!
Name C.IV.B.: #REF!
Name C.IV.B.: #REF!
Name C.V.A.: #REF!
Name C.V.A.: #REF!
Name C.V.A.: #REF!
Name C.VI.A.2: #REF!
Name C.VI.A.2: #REF!
Name C.VI.A.2: #REF!
Name C.VI.A.2: #REF!
Name C.VI.A.2: #REF!
Name C.VI.A.3: #REF!
Name C.VI.A.3: #REF!
Name C.VI.A.3: #REF!
Name C.VI.A.3: #REF!
Name C.VI.A.3: #REF!
Name C.VII.A: #REF!
Name C.VII.A: #REF!
Name C.VII.A: #REF!
Name C.VII.A: #REF!
Name C.VII.A: #REF!
Name Certification: #REF!
Name Certification: #REF!
Name Certification: #REF!
Name Certification: #REF!
Name Certification: #REF!
Name General: 'About This File'!$A$18

Sheet Title Page

Sheet About This File
A1: About This Contract Module File
A2: Summary of Tabs:
A3: C.I.A. - Summary of Funding for All Programs
A4: C.I.B. - Breakdown of OAA III-B Services
A5: C.I.C. - Service Units and Costs Projections by County
A6: C.I.E. - Service Units and Cost Projections for the PSA This will be used to determine the statewide Service Rate Report in contracts.
A7: C.I.E. Crosswalk - Year-to-Year Comparison of Services and Rates
A8: C.II.A. - AAA’s Operational Budget
A9: Cost Analysis - Line-Item Budget
A10: C.II.B. - OAA Budget Summary
A11: C.II.C. - Audit Schedule
A12: C.III. - AAA Subcontractor Monitoring Schedule
... A23: Gray cross-hatched cells are not applicable and should not be updated.

Sheet C.I.A.
A1: PSA: Original Submission Date: | M1: :)
A3: C.I.A. - Allocation to the Planning and Service Area
A4: This worksheet documents all funds allocated to the PSA. The “Original Allocation” row contains the continuation budget amount issued in the original contract for the year. The amount on this line does not change. The “Revised Allocation” line is the amount of the allocations after the actual federal grant award for the year is received. It is also where subsequent changes in allocations via contract amendments are reflected.
A5: Less (-) Transfer Amount and Plus (+) Transfer Amount contain transfers between titles. The amounts must be within allowable percentages: B to C or C to B can be no more than 30 percent (i.e., B ↔ [C1+C2]); amounts transferred between C1 and C2 can be no more than 40 percent of the source title (not the combined amount of [C1+C2]). Adjusted Amount is the total after the transfers. Carry Forward Funds must be exact amounts and allocated to the titles in which they were awarded. (NOTE: Carry Forward Funds are not entered at the time of the Area Plan submission, but later during contract amendments after closeout has been completed.) Total Funds equals the total after all adjustments have been made. Total OAA plus the GR AAA admin will equal the contract amount. State General Revenue Allocations and Supplemental Resource Activities (State, Federal, and Private) should match current contract amounts and the amounts detailed in eCIRTS. Transfer Amount sums up transfers recorded in previous four columns.
A6: Instructions: Update all yellow and aqua-colored cells as appropriate. Purple cells are calculated automatically. For Title IIIB, C1, and C2, include the total amount for Title IIIB, C1, and C2 services in the table. Indicate below the table, the portion of the total maintained by the AAA as Title IIIB LAN set aside and Title IIIB, C1, and C2 Disaster Recovery Reserves. The Title IIIB LAN set aside currently approved by the Department cannot be increased. The Title IIIB, CI, and CII Disaster Recovery Reserves must remain in reserve until the need arises, when the Department will issue further guidance. In accordance with the requirement for Area Agencies to describe all activities of the Agency, whether funded by public or private funds, and ensuring the Agency is managing the availability of financial resources for programs and services used to carry out programs for the elderly the operating budget must include ALL of the sources of funding and be included in the spreadsheets. (OAA and Chapter 430.2053, F.S) (Board and other non-DOEA funds should go under OTHERS.)
A8: C.1.A - FEDERAL ALLOCATION TO THE PLANNING AND SERVICE AREA
A10: OAA FEDERAL FUNDING | B10: AAA | C10: TITLE | D10: TITLE | E10: TITLE | F10: TRANSFER | G10: TITLE | H10: TITLE | J10: TITLE | K10: TOTAL OAA
A11: COMPOSITION | B11: ADMIN | C11: IIIB | D11: IIIC1 | E11: IIIC2 | F11: AMOUNT | G11: IIID | H11: IIIE | I11: NSIP | J11: VII | K11: Minus VII
A12: Original Allocation FFY 2026-2027 | B12: 900792 | C12: 2137193 | D12: 2868435 | E12: 1934647 | G12: 168886 | H12: 917260 | I12: 234489 | J12: 21266.91 | K12: =SUM(B12:E12)+SUM(G12:I12) -> 9161702
A13: Revised Allocation FFY 2026-2027 | B13: 0 | C13: 0 | D13: 0 | E13: 0 | G13: 0 | H13: 0 | I13: 0 | J13: 0 | K13: =SUM(B13:E13)+SUM(G13:I13) -> 0
A14: Less (-) Transfer Amount | D14: -2157115.6 | F14: =SUM(B14:E14) -> -2157115.6 | K14: =SUM(B14:E14) -> -2157115.6
A15: Plus (+) Transfer Amount | C15: 1078906 | E15: 1078209.6 | F15: =SUM(B15:E15) -> 2157115.6 | K15: =SUM(B15:E15) -> 2157115.6
A16: Adjusted Amount FFY 2026-2027 | B16: =SUM(B12:B15) -> 900792 | C16: =SUM(C12:C15) -> 3216099 | D16: =SUM(D12:D15) -> 711319.4 | E16: =SUM(E12:E15) -> 3012856.6 | G16: =SUM(G12:G15) -> 168886 | H16: =SUM(H12:H15) -> 917260 | I16: =SUM(I12:I15) -> 234489 | J16: =SUM(J12:J15) -> 21266.91 | K16: =SUM(B16:E16)+SUM(G16:I16) -> 9161702
A17: Carry Forward Funds FFY 2026-2027 | K17: =SUM(B17:J17) -> 0
A18: TOTAL FUNDS | B18: =B16+B17 -> 900792 | C18: =C16+C17 -> 3216099 | D18: =D16+D17 -> 711319.4 | E18: =E16+E17 -> 3012856.6 | F18: =F14+F15 -> 0 | G18: =G16+G17 -> 168886 | H18: =H16+H17 -> 917260 | I18: =I16+I17 -> 234489 | J18: =J16+J17 -> 21266.91 | K18: =SUM(B18:I18) -> 9161702
B20: Title III B Total Funds include $ | C20: 175623 | D20: in set aside funds (included in the Title III B column).
B21: Disaster Recovery Reserves include $ | C21: 3738 | D21: 5608 | E21: 5608 | F21: in set-aside funds (included in IIIB, C1, and C2 columns).
B22: Total Service Funds for C.I.C. & C.I.E. $ | C22: =C18-C20-C21 -> 3036738 | D22: =D18-D21 -> 705711.4 | E22: =E18-E21 -> 3007248.6
A25: STATE GENERAL REVENUE ALLOCATION TO THE PLANNING AND SERVICE AREA
A26: The State General Revenue Allocations and Supplemental Resource Activities (State, Federal, and Private) below should match current contract amounts.
A28: STATE GENERAL REVENUE ALLOCATIONS | G28: SUPPLEMENTAL RESOURCE ACTIVITIES (STATE, FEDERAL & PRIVATE)
A29: FUNDING COMPOSITION | D29: SFY 2026-2027 | G29: SOURCE OF FUNDING | K29: AMOUNT
D30: GR AMOUNTS | K30: OF FUNDING
A31: AAA ADMINISTRATION | D31: 27690 | G31: MED WAIVER SPECIALIST | K31: =96682.38+96682.37 -> 193364.75
A32: CCE ADMINISTRATION | D32: 68071 | G32: ADRC (MAC) | K32: =205197.62+205197.63 -> 410395.25
A33: CCE SERVICES | D33: 10393412 | G33: SHINE | K33: 349833.99
A34: HCE ADMINISTRATION | D34: 78002 | G34: MIPPA | K34: 196500
A35: HCE SUBSIDY & CASE MANAGEMENT | D35: 1151644 | G35: SMP | K35: 123698.14
A36: ADI ADMINISTRATION | D36: 89750 | G36: RELIEF | K36: 0
G37: EHEAP
A38: ADI SERVICES | D38: =4781848+252601 -> 5034449 | G38: VETERAN AFFAIRS | K38: 2864000
A39: LSP ADMINISTRATION | D39: =105571+1046000+500000-D40 -> 1617779 | G39: HUD | K39: 400000
A40: LSP SERVICES | D40: 33792

Sheet C.I.B.
A1: PSA: Original Submission Date: | G1: :)
A3: C.I.B. - OAA TITLE IIIB Services Expenditures
A5: This worksheet documents OAA Title IIIB expenditures by service, with services categorized as priority services or non-priority services. Instructions: Update all aqua-colored cells as appropriate. Purple cells are calculated automatically. Funds allocated for Access Services, In-Home Services, and Legal Assistance must be equal to or greater than the following percentages of the total Title IIIB Priority Services: Access services (20 percent), In-Home (8 percent), and Legal Assistance (1 percent) The "% of Total IIIB Allocation" column total is calculated. The total funds allocated on this sheet are divided by the total IIIB funds calculated on C.I.A. The percentage in the "Total IIIB" row at the bottom must equal 100 percent. If it does not, the amounts entered in the "Funds Allocated" column do not match those entered on tab C.I.A. IIIB LAN Set Aside and IIIB, C1, and C2 Disaster Recovery Reserve totals are calculated automatically, and included in the "Total IIIB". IIIB Non-Priority Services needs to include other funds allocated to the AAA not included in IIIB Priority Services.
A6: Title IIIB Expenditures | B6: Funds Allocated | C6: % of Total IIIB Allocation | D6: # Units of Services Provided | E6: # of Unduplicated Consumers Served | F6: % of Total 60+ Population*
A7: LAN Set-Aside | B7: ='C.I.A.'!$C$20 -> 175623 | C7: =SUM(B7/'C.I.A.'!C18) -> 0.054607461
A8: Disaster Recovery Reserve | B8: ='C.I.A.'!$C$21 -> 3738 | C8: =SUM(B8/'C.I.A.'!C18) -> 0.0011622777
A10: IIIB Priority Services
A11: Access Services
A12: Information | B12: ='C.I.E.'!J147 -> 347711 | C12: =B12/'C.I.A.'!C18 -> 0.10811576 | D12: =B12/'C.I.E.'!$K$147 -> 12330.177 | E12: 12330 | F12: =E12/$E$31 -> 0.56713123
A13: Referral | B13: ='C.I.E.'!J153 -> 174219 | C13: =B13/'C.I.A.'!C18 -> 0.054170907 | D13: =B13/'C.I.E.'!$K$147 -> 6177.9787 | E13: 6178 | F13: =E13/$E$31 -> 0.28416356
A14: Outreach | B14: ='C.I.E.'!J151 -> 65327 | C14: =B14/'C.I.A.'!C18 -> 0.020312497 | D14: =B14/'C.I.E.'!K151 -> 734.8369 | E14: 840 | F14: =E14/$E$31 -> 0.038636677
A15: Transportation | B15: ='C.I.E.'!J160 -> 755869 | C15: =B15/'C.I.A.'!C18 -> 0.23502666 | D15: ='C.I.C.'!M1082/'C.I.C.'!N1082+'C.I.C.'!M1108/'C.I.C.'!N1108 -> 24927.837 | E15: 1120 | F15: =E15/$E$31 -> 0.05151557
A16: Subtotal | B16: =SUM(B12:B15) -> 1343126
A17: =B16/B31 -> 0.41762583 | B17: = amount allocated for Access Services (must be equal to or greater than 20%)
A18: In-Home Services
A19: Homemaker | B19: ='C.I.E.'!J146 -> 378220 | C19: =B19/'C.I.A.'!C18 -> 0.1176021 | D19: ='C.I.C.'!M1091/'C.I.C.'!N1091+'C.I.C.'!M1113/'C.I.C.'!N1113 -> 9763.0356 | E19: 190 | F19: =E19/$E$31 -> 0.0087392484
A20: Personal Care | B20: 0 | C20: =B20/'C.I.A.'!C18 -> 0 | D20: 0 | E20: 0 | F20: =E20/$E$31 -> 0
A21: In-Home Respite | B21: 0 | C21: =B21/'C.I.A.'!C18 -> 0 | D21: 0 | E21: 0 | F21: =E21/$E$31 -> 0
A22: Chore | B22: ='C.I.E.'!J142 -> 315406 | C22: =B22/'C.I.A.'!C18 -> 0.098070986 | D22: =B22/'C.I.E.'!K142 -> 4613.2222 | E22: 288 | F22: =E22/$E$31 -> 0.013246861
A23: Companionship | B23: 0 | C23: =B23/'C.I.A.'!C18 -> 0 | D23: 0 | E23: 0 | F23: =E23/$E$31 -> 0
A24: Telephone Reass. | B24: ='C.I.E.'!J159 -> 8485 | C24: =B24/'C.I.A.'!C18 -> 0.0026382894 | D24: =B24/'C.I.E.'!K159 -> 317.19626 | E24: 120 | F24: =E24/$E$31 -> 0.0055195253
A25: Subtotal | B25: =SUM(B19:B24) -> 702111
A26: =B25/B31 -> 0.21831138 | B26: = amount allocated for In-Home Services (must be equal to or greater than 8%)
A27: Legal Assistance
A28: Legal Assistance | B28: ='C.I.E.'!J149 -> 138138 | C28: =B28/'C.I.A.'!C18 -> 0.042952036 | D28: ='C.I.C.'!M1084/'C.I.C.'!N1084+'C.I.C.'!M1111/'C.I.C.'!N1111 -> 1317.5507 | E28: 270 | F28: =E28/$E$31 -> 0.012418932
A29: =B28/B31 -> 0.042952036 | B29: = amount allocated for Legal Services (must be equal to or greater than 3%)
A30: IIIB Non-Priority Services | B30: ='C.I.A.'!C18-'C.I.B.'!B25-'C.I.B.'!B16-'C.I.B.'!B28-B8-B7 -> 853363 | C30: =B30/'C.I.A.'!C18 -> 0.26534102 | D30: =44969 -> 44969 | E30: 405
A31: Total IIIB | B31: =B7+B8+B16+B25+B28+B30 -> 3216099 | C31: =B31/'C.I.A.'!C18 -> 1 | D31: =SUM(D12:D15)+SUM(D19:D24)+D28+D30 -> 105150.84 | E31: =SUM(E12:E15)+SUM(E19:E24)+E28+E30 -> 21741
A33: * To have % total 60+ population computed, enter 60+ population: | E33: 538177

Sheet C.I.C.
A1: PSA:5 Original Submission Date: | I1: :)
A3: C.I.C. - Service Units and Costs Projections - PSA Summary
A4: This worksheet lists the actual unit rate (what providers report as their actual costs to provide a unit of service) and the adjusted unit rate (the negotiated unit rate/what the Area Agency on Aging agrees to pay for a unit of service) for each service provider under direct contract with the AAA. Services provided directly by the AAA must also be included and reflect county allocations. Service projections (State/Federal Share) must be included for each service and the total of the State/Federal Share must equal the total service funds for each program, as reported on the C.I.A.
A5: Instructions: Part A - C.I.C. Service Units and Cost Projections - PSA Summary C.I.C. Service Units and Cost Projections - PSA Summary: Run a report in eCIRTS for each OAA Title III program: Type in Start Date and End Date: 01/01/2027 to 12/31/2027; Select PSA; Select Program (O3C1, O3C2, OA3B, OA3D, OA3E, OA3EG, and OA3ES).
A6: Instructions: Inserting Data Into This Spreadsheet In order to insert the data into this template, each time you run a report for an OAA Title III program, select the Save button (which looks like a disc) and select CSV (comma delimited) which will download the report into Excel. Copy the data from the report and insert it below. Please be sure to add the program name (O3C1, etc.) to Column A to distinguish each program. Please also add a subtotal row for each program you have pasted into this spreadsheet. Repeat this process for each report you run pasting your data below any data previously entered into this spreadsheet. Once you have completed inserting all your data into this spreadsheet, you can adjust the column headings to accommodate the labels from the data you've imported.
A7: Start Date and End Date parameters should align with state and federal contract years.
A8: Federal contracts run from January-December. General Revenue contracts run from July-June.
A10: PSA | B10: 5
A11: Start Date: | B11: 46204
A12: End Date: | B12: 46568
A13: Program | B13: ADI
B14: PSA | C14: County | F14: Provider | J14: Service | K14: Service Description | M14: State/Federal Share | N14: Avg Reimbursement Unit Rate | P14: Max Reimbursement Unit Rate | Q14: Max Provider Unit Cost
B15: 5 | C15: PASCO | F15: 21305 - ADT SECURITY SERVICES, INC. (Pasco) | J15: EAR | K15: Emergency Alert Response | N15: 0.97 | P15: 0.97 | Q15: 1.27
J16: Provider Total:
F17: 21314 - GUARDIAN MEDICAL MONITORING,LLC (Pasco) | J17: EAR | K17: Emergency Alert Response | N17: 0.99 | P17: 0.99 | Q17: 1.33
J18: Provider Total:
F19: 21318 - ABC PEST CONTROL (Pasco) | J19: OTH | K19: OTH OTHER SERVICES | N19: 0 | P19: 0
J20: PECI | K20: PECI PEST CONTROL INITIAL | N20: 84.2 | P20: 84.2 | Q20: 93.9
J21: PECM | K21: PECM PEST CONTROL MAINTENANCE | N21: 64.2 | P21: 64.2 | Q21: 78.6
J22: ROCI | K22: ROCI PEST CONTROL (RODENT CONTROL) | N22: 92 | P22: 92 | Q22: 112
J23: Provider Total:
F24: 21327 - PASCO COUNTY SENIOR SERVICES | J24: CA | K24: CA CASE AIDE | M24: 128222.7 | N24: 52.46 | P24: 52.46 | Q24: 52.46
J25: CM | K25: CM CASE MANAGEMENT | M25: 320556.76 | N25: 78.92 | P25: 78.92 | Q25: 78.92
J26: Provider Total: | M26: 448779.46
F27: 21333 - PETERSON COUNSELING & CONSULTING,INC. (52700-395) | J27: MHSI | K27: MHSI COUNSELING (MENTAL HEALTH COUNSELING/SCREENING) - INDIVIDUAL | N27: 86.1 | P27: 86.1 | Q27: 150
J28: Provider Total:
F29: 21335 - PERSONAL RESPONSE CORPORATION (Pasco) | J29: EAR | K29: Emergency Alert Response | N29: 1.03 | P29: 1.03 | Q29: 1.17
J30: Provider Total:
F31: 21348 - EMPATH FOR YOU, LLC (52700-510) | J31: COMP | K31: COMP COMPANIONSHIP | N31: 27.3 | P31: 27.3 | Q31: 35
J32: HMK | K32: HMK Homemaker | N32: 27.3 | P32: 27.3 | Q32: 35
J33: PECA | K33: PECA PERSONAL CARE | N33: 29.92 | P33: 29.92 | Q33: 35
J34: RESP | K34: RESP RESPITE IN-HOME | N34: 29.92 | P34: 29.92 | Q34: 35
J35: Provider Total:
F36: 21352 - VEBEACH ENTERPRISE LLC DBA SENIORS HELPING SENIORS (52700-514) | J36: COMP | K36: COMP COMPANIONSHIP | N36: 27.3 | P36: 27.3 | Q36: 32
J37: HMK | K37: HMK Homemaker | N37: 27.3 | P37: 27.3 | Q37: 32
J38: PECA | K38: PECA PERSONAL CARE | N38: 29.92 | P38: 29.92 | Q38: 36
J39: RESP | K39: RESP RESPITE IN-HOME | N39: 29.92 | P39: 29.92 | Q39: 36
J40: Provider Total:
F41: 21710 - CATALANO'S NURSE REGISTRY (53700-19G) | J41: CHO | K41: CHO CHORE | N41: 44.88 | P41: 44.88 | Q41: 50
J42: COMP | K42: COMP COMPANIONSHIP | N42: 25 | P42: 25 | Q42: 28
...

Sheet C.I.E.
A1: PSA: Original Submission Date: | J1: :)
A3: C.I.E.- Service Units and Cost Projections — PSA Summary — All Programs
A5: This worksheet displays for each program (except Medicaid waivers) the services provided and for each service the projected cost; number of units to be served; average unit rate; highest and lowest unit rate; and average, highest, and lowest contracted unit rate.
A6: Instructions: C.I.E. Service Units and Costs Projections – PSA Summary – All Programs: Run the report in eCIRTS. Type in Start Date and End Date: 01/01/2027 to 12/31/2027; Select PSA; Select "Federally Funded" for the Program Type Service projections (State/Federal Share) must be included for each service and the total of the State/Federal Share must equal the total service funds for each program, as reported on the C.I.A.
A7: Instructions: Inserting Data Into This Spreadsheet In order to insert the data into this template, each time you run a report for an OAA Title III program, select the Save button (which looks like a disc) and select CSV (comma delimited) which will download the report into Excel. Copy the data from the report and insert it below. Please insert and add a subtotal row for each program you have pasted into this spreadsheet. Once you have completed inserting all your data into this spreadsheet, you can adjust the column headings to accommodate the labels from the data you've imported.
L9: Start Date and End Date parameters should align with state and federal contract years. Federal contracts run January-December. General Revenue contracts run July-June.
B11: Start Date: 7/1/2026 | G11: End Date: 6/30/2027
B13: PSA | C13: Program | E13: Service | H13: Service Description | J13: Total State/Federal Share | K13: Avg Reimbursement Unit Rate | M13: Max Reimbursement Unit Rate | N13: Min Reimbursement Unit Rate | O13: Avg Provider Unit Cost | Q13: Max Provider Unit Cost | R13: Min Provider Unit Cost
B14: 5 | C14: ADI | E14: ADCO | H14: ADCO ADULT DAY CARE - DAYS | K14: 133.51 | M14: 134.64 | N14: 132 | O14: 156.61 | Q14: 183.62 | R14: 146
E15: CA | H15: CA CASE AIDE | J15: 311058.78 | K15: 52.45 | M15: 52.46 | N15: 52.43 | O15: 52.45 | Q15: 52.46 | R15: 52.43
E16: CHO | H16: CHO CHORE | K16: 43.47 | M16: 47.25 | N16: 40 | O16: 59.14 | Q16: 90 | R16: 44
E17: CM | H17: CM CASE MANAGEMENT | J17: 764587.23 | K17: 78.91 | M17: 78.92 | N17: 78.9 | O17: 78.91 | Q17: 78.92 | R17: 78.9
E18: COMP | H18: COMP COMPANIONSHIP | K18: 26.87 | M18: 27.3 | N18: 23.4 | O18: 32.31 | Q18: 38 | R18: 26
E19: CTSI | H19: CTSI CAREGIVER TRAIN/SUPPORT (INDV) | K19: 49.5 | M19: 49.5 | N19: 49.5 | O19: 55 | Q19: 55 | R19: 55
E20: EAR | H20: Emergency Alert Response | K20: 1 | M20: 1.03 | N20: 0.97 | O20: 1.26 | Q20: 1.33 | R20: 1.17
E21: ECHO | H21: ECHO CHORE (ENHANCED) | K21: 48.36 | M21: 54.49 | N21: 42.5 | O21: 63.67 | Q21: 90 | R21: 47
E22: EHDM | H22: EHDM EMERGENCY HOME DELIVERED SHELF MEALS | K22: 7.66 | M22: 7.66 | N22: 7.66 | O22: 8.33 | Q22: 9 | R22: 7.66
E23: EHDMN | H23: EHDMN EMERGENCY HOME DELIVERED SHELF MEALS - NON-CO-PAYMENT | K23: 7.66 | M23: 7.66 | N23: 7.66 | O23: 8.33 | Q23: 9 | R23: 7.66
E24: ESC | H24: ESC ESCORT | K24: 27.13 | M24: 29.4 | N24: 26 | O24: 32.67 | Q24: 40 | R24: 29
E25: GECI | H25: GECI COUNSELING (GERONTOLOGICAL) - INDIVIDUAL | K25: 90.51 | M25: 93.97 | N25: 85.33 | O25: 114 | Q25: 173.25 | R25: 95
E26: HDM | H26: HDM HOME DELIVERED MEALS | K26: 7.84 | M26: 7.9 | N26: 7.77 | O26: 11.67 | Q26: 14.95 | R26: 7.77
E27: HDMN | H27: HDMN HOME DELIVERED MEALS - NON-CO-PAYMENT | K27: 7.84 | M27: 7.9 | N27: 7.77 | O27: 11.67 | Q27: 14.95 | R27: 7.77
E28: HMK | H28: HMK Homemaker | K28: 26.9 | M28: 27.3 | N28: 24.3 | O28: 32.27 | Q28: 38 | R28: 26
E29: HN | H29: HN SKILLED NURSING SERVICES | K29: 60.41 | M29: 62.47 | N29: 54 | O29: 85.26 | Q29: 169 | R29: 60
E30: HOIM | H30: HOIM HOUSING IMPROVEMENT | K30: 0 | M30: 0 | N30: 0 | O30: 0 | Q30: 0 | R30: 0
E31: INSC | H31: INSC INTAKE | J31: 285460 | K31: 131.9 | M31: 131.9 | N31: 131.9 | O31: 131.9 | Q31: 131.9 | R31: 131.9
E32: MATE | H32: MATE MATERIAL AID | K32: 0 | M32: 0 | N32: 0 | O32: 0 | Q32: 0 | R32: 0
E33: MHSI | H33: MHSI COUNSELING (MENTAL HEALTH COUNSELING/SCREENING) - INDIVIDUAL | K33: 88.9 | M33: 94.5 | N33: 86.1 | O33: 127.35 | Q33: 173.25 | R33: 95
E34: NUCOI | H34: NUCOI NUTRITION COUNSELING - INDIVIDUAL | K34: 65.29 | M34: 68.13 | N34: 62.45 | O34: 72 | Q34: 75 | R34: 69
E35: OTH | H35: OTH OTHER SERVICES | K35: 0 | M35: 0 | N35: 0 | O35: 0 | Q35: 0 | R35: 0
E36: PECA | H36: PECA PERSONAL CARE | K36: 29.32 | M36: 29.92 | N36: 26 | O36: 33.83 | Q36: 40 | R36: 27
E37: PECI | H37: PECI PEST CONTROL INITIAL | K37: 90.4 | M37: 96.59 | N37: 84.2 | O37: 121.95 | Q37: 150 | R37: 93.9
E38: PECM | H38: PECM PEST CONTROL MAINTENANCE | K38: 69.24 | M38: 74.28 | N38: 64.2 | O38: 114.3 | Q38: 150 | R38: 78.6
E39: RESF | H39: RESF RESPITE IN-FACILITY | K39: 16.69 | M39: 16.83 | N39: 16.5 | O39: 18.58 | Q39: 20 | R39: 16
E40: RESP | H40: RESP RESPITE IN-HOME | K40: 29.32 | M40: 29.92 | N40: 26 | O40: 34.42 | Q40: 50 | R40: 27
E41: ROCI | H41: ROCI PEST CONTROL (RODENT CONTROL) | K41: 92 | M41: 92 | N41: 92 | O41: 112 | Q41: 112 | R41: 112
E42: RRFA | H42: RRFA FINANCIAL RISK REDUCTION (ASSESSMENT) | K42: 44.39 | M42: 46.72 | N42: 39.72 | O42: 63.24 | Q42: 75 | R42: 39.72
E43: RRFM | H43: RRFM FINANCIAL RISK REDUCTION (MAINTENANCE) | K43: 41.94 | M43: 43.05 | N43: 39.72 | O43: 53.24 | Q43: 60 | R43: 39.72
... E46: TRS | H46: TRS TRANSPORTATION | K46: 29.13 | M46: 30.45 | N46: 27.81 | O46: 29.13 | Q46: 30.45 | R46: 27.81
E47: VSC | H47: VSC VENDOR SUBCONTRACTOR SERVICES - FOR AREA PLAN ONLY | J47: 3673343 | K47: 0 | M47: 0 | N47: 0
...

Sheet C.I.E. Crosswalk
A1: PSA: Original Submission Date: | J1: :)
A3: Crosswalk of 2026 and 2027 OAA Services and Unit Costs
A5: This worksheet displays for each OAA program the services provided, the highest unit rate for each service, and the differences in services and highest unit rate from one year to the next. AAAs shall confirm in the notes column which services are new and which have been removed. AAAs shall provide justification for any unit rate that has changed more than 5 percent, either as an increase or as a decrease.
A6: Instructions: Inserting Data Into This Spreadsheet Follow the instructions in the C.I.E. tab to capture data for 2026 and 2027 Services. Copy and paste the data for the 2026 and 2027 Services in the table below. Add as many rows as are needed by copying and pasting Row 11 so that the formulas in Column H and Column I are in each row.
A9: 2026 | B9: 2026 | C9: 2018 | D9: 2018 | E9: 2018 | F9: 2018 | G9: 2026 | H9: 2018 | I9: 2018 | J9: 2018 | K9: 2018 | L9: 2018 | O9: 2027 | P9: 2027 | Q9: 2019 | R9: 2019 | S9: 2019 | T9: 2019 | U9: 2027 | V9: 2019 | W9: 2019 | X9: 2019 | Y9: 2019
A10: PROGRAM | B10: SERVICE | C10: PSA | D10: TOTAL_STATE_FEDERAL_SHARE | E10: TOTAL_PROJECTED_SERVICE_UNITS | F10: AVG_REIMBURSEMENT_UNIT_RATE | G10: HIGH REIM | H10: LOW_REIMBURSEMENT_UNIT_RATE | I10: AVG_PROVIDER_COST_PER_UNIT | J10: HIGH_PROVIDER_COST_PER_UNIT | K10: LOW_PROVIDER_COST_PER_UNIT | O10: PROGRAM | P10: SERVICE | Q10: PSA | R10: TOTAL_STATE_FEDERAL_SHARE | S10: TOTAL_PROJECTED_SERVICE_UNITS | T10: AVG_REIMBURSEMENT_UNIT_RATE | U10: HIGH REIM | V10: LOW_REIMBURSEMENT_UNIT_RATE | W10: AVG_PROVIDER_COST_PER_UNIT | X10: HIGH_PROVIDER_COST_PER_UNIT | Y10: LOW_PROVIDER_COST_PER_UNIT | AA10: VARIANCE | AB10: % Change | AC10: PROVIDE EXPLANATION FOR ALL % CHANGES MORE THAN 5% (Highlighted Yellow)
A11: O3C1 | B11: CONGREGATE MEALS | C11: 1 | D11: 850275.48 | E11: 114943 | F11: 8.16 | G11: 9.28 | H11: 6.62 | I11: 9.06 | J11: 10.77 | K11: 7.35 | O11: O3C1 | P11: CONGREGATE MEALS | Q11: 1 | R11: 700973.53 | S11: 33931 | T11: 8.33 | U11: 9.42 | V11: 6.75 | W11: 9.25 | X11: 11 | Y11: 7.5 | AA11: =SUM(U11-G11) -> 0.14 | AB11: =SUM(AA11/G11) -> 0.015086207
A12: O3C1 | B12: CONGREGATE MEALS GUEST | C12: 1 | D12: 850275.48 | E12: 114943 | F12: 8.16 | G12: 9.28 | O12: O3C1 | P12: CONGREGATE MEALS GUEST | U12: 9.42 | AA12: =SUM(U12-G12) -> 0.14 | AB12: =SUM(AA12/G12) -> 0.015086207
A13: O3C1 | B13: CONGREGATE MEALS GRAB AND GO | G13: 9.28 | O13: O3C1 | P13: CONGREGATE MEALS GRAB AND GO | U13: 9.42 | AA13: =SUM(U13-G13) -> 0.14 | AB13: =SUM(AA13/G13) -> 0.015086207
A14: O3C1 | B14: CONGREGATE MEALS FOR MANAGED LONG-TERM CARE CLIENTS | G14: 9.28 | O14: O3C1 | P14: CONGREGATE MEALS FOR MANAGED LONG-TERM CARE CLIENTS | U14: 9.42 | AA14: =SUM(U14-G14) -> 0.14 | AB14: =SUM(AA14/G14) -> 0.015086207
A15: O3C1 | B15: CONGREGATE HOLIDAY/EMERGENCY SHELF MEALS | G15: 9.28 | O15: O3C1 | P15: CONGREGATE HOLIDAY/EMERGENCY SHELF MEALS | U15: 9.42 | AA15: =SUM(U15-G15) -> 0.14 | AB15: =SUM(AA15/G15) -> 0.015086207
A16: O3C1 | B16: CONGREGATE MEALS VOLUNTEERS | G16: 9.28 | O16: O3C1 | P16: CONGREGATE MEALS VOLUNTEERS | U16: 9.42 | AA16: =SUM(U16-G16) -> 0.14 | AB16: =SUM(AA16/G16) -> 0.015086207
C17: 1 | D17: 850275.48 | E17: 114943 | F17: 8.16 | H17: 6.62 | I17: 9.06 | J17: 10.77 | K17: 7.35 | O17: O3C1 | P17: CONGREGATE MEALS BREAKFAST | Q17: 1 | R17: 700973.53 | S17: 33931 | T17: 8.33 | U17: 9.42 | V17: 6.75 | W17: 9.25 | X17: 11 | Y17: 7.5 | AA17: =SUM(U17-G17) -> 9.42 | AB17: 1 | AC17: New Service
A18: O3C1 | B18: EMERGENCY HOME DELIVERED SHELF MEALS | G18: 8.88 | O18: O3C1 | P18: EMERGENCY HOME DELIVERED SHELF MEALS | Q18: 1 | R18: 700973.53 | S18: 33931 | T18: 8.33 | U18: 9.3 | V18: 6.75 | W18: 9.25 | X18: 11 | Y18: 7.5 | AA18: =SUM(U18-G18) -> 0.42 | AB18: =SUM(AA18/G18) -> 0.047297297
A19: O3C1 | B19: NUTRITION EDUCATION | C19: 1 | D19: 850275.48 | E19: 114943 | F19: 8.16 | G19: 5.64 | H19: 6.62 | I19: 9.06 | J19: 10.77 | K19: 7.35 | O19: O3C1 | P19: NUTRITION EDUCATION | Q19: 1 | R19: 700973.53 | S19: 33931 | T19: 8.33 | U19: 5.64 | V19: 6.75 | W19: 9.25 | X19: 11 | Y19: 7.5 | AA19: =SUM(U19-G19) -> 0 | AB19: =SUM(AA19/G19) -> 0
A20: O3C1 | B20: NUTRITION COUNSELING - INDIVIDUAL | C20: 1 | D20: 850275.48 | E20: 114943 | F20: 8.16 | G20: 86.67 | H20: 6.62 | I20: 9.06 | J20: 10.77 | K20: 7.35 | O20: O3C1 | P20: NUTRITION COUNSELING - INDIVIDUAL | Q20: 1 | R20: 700973.53 | S20: 33931 | T20: 8.33 | U20: 90.99 | V20: 6.75 | W20: 9.25 | X20: 11 | Y20: 7.5 | AA20: =SUM(U20-G20) -> 4.32 | AB20: =SUM(AA20/G20) -> 0.049844237
A21: O3C1 | B21: OUTREACH | C21: 1 | D21: 850275.48 | E21: 114943 | F21: 8.16 | G21: 22.6 | H21: 6.62 | I21: 9.06 | J21: 10.77 | K21: 7.35 | O21: O3C1 | P21: OUTREACH | Q21: 1 | R21: 700973.53 | S21: 33931 | T21: 8.33 | U21: 22.6 | V21: 6.75 | W21: 9.25 | X21: 11 | Y21: 7.5 | AA21: =SUM(U21-G21) -> 0 | AB21: =SUM(AA21/G21) -> 0
A22: O3C1 | B22: SHOPPING ASSISTANCE | C22: 1 | D22: 850275.48 | E22: 114943 | F22: 8.16 | G22: 25.6 | H22: 6.62 | I22: 9.06 | J22: 10.77 | K22: 7.35 | O22: O3C1 | P22: SHOPPING ASSISTANCE | Q22: 1 | R22: 700973.53 | S22: 33931 | T22: 8.33 | U22: 0 | V22: 6.75 | W22: 9.25 | X22: 11 | Y22: 7.5 | AA22: =SUM(U22-G22) -> -25.6 | AB22: =SUM(AA22/G22) -> -1 | AC22: Removed Service
A23: O3C1 | B23: ASSURANCE (TELEPHONE & IN-PERSON) | C23: 1 | D23: 850275.48 | E23: 114943 | F23: 8.16 | G23: 25.6 | H23: 6.62 | I23: 9.06 | J23: 10.77 | K23: 7.35 | O23: O3C1 | P23: ASSURANCE (TELEPHONE & IN-PERSON) | Q23: 1 | R23: 700973.53 | S23: 33931 | T23: 8.33 | U23: 26.75 | V23: 6.75 | W23: 9.25 | X23: 11 | Y23: 7.5 | AA23: =SUM(U23-G23) -> 1.15 | AB23: =SUM(AA23/G23) -> 0.044921875
A24: O3C2 | B24: EMERGENCY HOME DELIVERED SHELF MEALS | C24: 1 | D24: 850275.48 | E24: 114943 | F24: 8.16 | G24: 8.88 | H24: 6.62 | I24: 9.06 | J24: 10.77 | K24: 7.35 | O24: O3C2 | P24: EMERGENCY HOME DELIVERED SHELF MEALS | Q24: 1 | R24: 700973.53 | S24: 33931 | T24: 8.33 | U24: 9.3 | V24: 6.75 | W24: 9.25 | X24: 11 | Y24: 7.5 | AA24: =SUM(U24-G24) -> 0.42 | AB24: =SUM(AA24/G24) -> 0.047297297
A25: O3C2 | B25: HOME DELIVERED MEALS | C25: 1 | D25: 850275.48 | E25: 114943 | F25: 8.16 | G25: 8.88 | H25: 6.62 | I25: 9.06 | J25: 10.77 | K25: 7.35 | O25: O3C2 | P25: HOME DELIVERED MEALS | Q25: 1 | R25: 700973.53 | S25: 33931 | T25: 8.33 | U25: 9.3 | V25: 6.75 | W25: 9.25 | X25: 11 | Y25: 7.5 | AA25: =SUM(U25-G25) -> 0.42 | AB25: =SUM(AA25/G25) -> 0.047297297
A26: O3C2 | B26: HOME DELIVERED MEAL GUEST | C26: 1 | D26: 850275.48 | E26: 114943 | F26: 8.16 | G26: 8.88 | H26: 6.62 | I26: 9.06 | J26: 10.77 | K26: 7.35 | O26: O3C2 | P26: HOME DELIVERED MEAL GUEST | Q26: 1 | R26: 700973.53 | S26: 33931 | T26: 8.33 | U26: 9.3 | V26: 6.75 | W26: 9.25 | X26: 11 | Y26: 7.5 | AA26: =SUM(U26-G26) -> 0.42 | AB26: =SUM(AA26/G26) -> 0.047297297
A27: O3C2 | B27: NUTRITION EDUCATION | C27: 1 | D27: 850275.48 | E27: 114943 | F27: 8.16 | G27: 5.64 | H27: 6.62 | I27: 9.06 | J27: 10.77 | K27: 7.35 | O27: O3C2 | P27: NUTRITION EDUCATION | Q27: 1 | R27: 700973.53 | S27: 33931 | T27: 8.33 | U27: 5.64 | V27: 6.75 | W27: 9.25 | X27: 11 | Y27: 7.5 | AA27: =SUM(U27-G27) -> 0 | AB27: =SUM(AA27/G27) -> 0
A28: O3C2 | B28: NUTRITION COUNSELING - INDIVIDUAL | C28: 1 | D28: 850275.48 | E28: 114943 | F28: 8.16 | G28: 87 | H28: 6.62 | I28: 9.06 | J28: 10.77 | K28: 7.35 | O28: O3C2 | P28: NUTRITION COUNSELING - INDIVIDUAL | Q28: 1 | R28: 700973.53 | S28: 33931 | T28: 8.33 | U28: 91.34 | V28: 6.75 | W28: 9.25 | X28: 11 | Y28: 7.5 | AA28: =SUM(U28-G28) -> 4.34 | AB28: =SUM(AA28/G28) -> 0.049885057
A29: O3C2 | B29: OUTREACH | C29: 1 | D29: 850275.48 | E29: 114943 | F29: 8.16 | G29: 22.6 | H29: 6.62 | I29: 9.06 | J29: 10.77 | K29: 7.35 | O29: O3C2 | P29: OUTREACH | Q29: 1 | R29: 700973.53 | S29: 33931 | T29: 8.33 | U29: 22.6 | V29: 6.75 | W29: 9.25 | X29: 11 | Y29: 7.5 | AA29: =SUM(U29-G29) -> 0 | AB29: =SUM(AA29/G29) -> 0
A30: O3C2 | B30: SHOPPING ASSISTANCE | C30: 1 | D30: 850275.48 | E30: 114943 | F30: 8.16 | G30: 25.6 | H30: 6.62 | I30: 9.06 | J30: 10.77 | K30: 7.35 | O30: O3C2 | P30: SHOPPING ASSISTANCE | Q30: 1 | R30: 700973.53 | S30: 33931 | T30: 8.33 | U30: 0 | V30: 6.75 | W30: 9.25 | X30: 11 | Y30: 7.5 | AA30: =SUM(U30-G30) -> -25.6 | AB30: =SUM(AA30/G30) -> -1 | AC30: Removed Service
A31: O3C2 | B31: ASSURANCE (TELEPHONE & IN-PERSON) | C31: 1 | D31: 850275.48 | E31: 114943 | F31: 8.16 | G31: 25.6 | H31: 6.62 | I31: 9.06 | J31: 10.77 | K31: 7.35 | O31: O3C2 | P31: ASSURANCE (TELEPHONE & IN-PERSON) | Q31: 1 | R31: 700973.53 | S31: 33931 | T31: 8.33 | U31: 26.75 | V31: 6.75 | W31: 9.25 | X31: 11 | Y31: 7.5 | AA31: =SUM(U31-G31) -> 1.15 | AB31: =SUM(AA31/G31) -> 0.044921875
A32: OA3B | B32: ADCO ADULT DAY CARE - DAYS | C32: 1 | D32: 850275.48 | E32: 114943 | F32: 8.16 | G32: 160 | H32: 6.62 | I32: 9.06 | J32: 10.77 | K32: 7.35 | O32: OA3B | P32: ADCO ADULT DAY CARE - DAYS | Q32: 1 | R32: 700973.53 | S32: 33931 | T32: 8.33 | U32: 154.15 | V32: 6.75 | W32: 9.25 | X32: 11 | Y32: 7.5 | AA32: =SUM(U32-G32) -> -5.85 | AB32: =SUM(AA32/G32) -> -0.0365625
A33: OA3B | B33: CHORE | C33: 1 | D33: 850275.48 | E33: 114943 | F33: 8.16 | G33: 65.12 | H33: 6.62 | I33: 9.06 | J33: 10.77 | K33: 7.35 | O33: OA3B | P33: CHORE | Q33: 1 | R33: 700973.53 | S33: 33931 | T33: 8.33 | U33: 68.37 | V33: 6.75 | W33: 9.25 | X33: 11 | Y33: 7.5 | AA33: =SUM(U33-G33) -> 3.25 | AB33: =SUM(AA33/G33) -> 0.049907862
A34: OA3B | B34: EMERGENCY ALERT RESPONSE | C34: 1 | D34: 850275.48 | E34: 114943 | F34: 8.16 | G34: 1.08 | H34: 6.62 | I34: 9.06 | J34: 10.77 | K34: 7.35 | O34: OA3B | P34: EMERGENCY ALERT RESPONSE | Q34: 1 | R34: 700973.53 | S34: 33931 | T34: 8.33 | U34: 1.13 | V34: 6.75 | W34: 9.25 | X34: 11 | Y34: 7.5 | AA34: =SUM(U34-G34) -> 0.05 | AB34: =SUM(AA34/G34) -> 0.046296296
A35: OA3B | B35: EDUCG EDUCATION/TRAINING - GROUP | C35: 1 | D35: 850275.48 | E35: 114943 | F35: 8.16 | G35: 71.25 | H35: 6.62 | I35: 9.06 | J35: 10.77 | K35: 7.35 | O35: OA3B | P35: EDUCG EDUCATION/TRAINING - GROUP | Q35: 1 | R35: 700973.53 | S35: 33931 | T35: 8.33 | U35: 73.39 | V35: 6.75 | W35: 9.25 | X35: 11 | Y35: 7.5 | AA35: =SUM(U35-G35) -> 2.14 | AB35: =SUM(AA35/G35) -> 0.030035088
A36: OA3B | B36: EDUCI EDUCATION/TRAINING - INDIVIDUAL | C36: 1 | D36: 850275.48 | E36: 114943 | F36: 8.16 | G36: 135 | H36: 6.62 | I36: 9.06 | J36: 10.77 | K36: 7.35 | O36: OA3B | P36: EDUCI EDUCATION/TRAINING - INDIVIDUAL | Q36: 1 | R36: 700973.53 | S36: 33931 | T36: 8.33 | U36: 139.05 | V36: 6.75 | W36: 9.25 | X36: 11 | Y36: 7.5 | AA36: =SUM(U36-G36) -> 4.05 | AB36: =SUM(AA36/G36) -> 0.03
A37: OA3B | B37: HOMEMAKER | C37: 1 | D37: 850275.48 | E37: 114943 | F37: 8.16 | G37: 36.9 | H37: 6.62 | I37: 9.06 | J37: 10.77 | K37: 7.35 | O37: OA3B | P37: HOMEMAKER | Q37: 1 | R37: 700973.53 | S37: 33931 | T37: 8.33 | U37: 38.74 | V37: 6.75 | W37: 9.25 | X37: 11 | Y37: 7.5 | AA37: =SUM(U37-G37) -> 1.84 | AB37: =SUM(AA37/G37) -> 0.049864499
A38: OA3B | B38: INFORMATION | C38: 1 | D38: 850275.48 | E38: 114943 | F38: 8.16 | G38: 26.86 | H38: 6.62 | I38: 9.06 | J38: 10.77 | K38: 7.35 | O38: OA3B | P38: INFORMATION | Q38: 1 | R38: 850275.48 | S38: 114943 | T38: 8.16 | U38: 28.2 | V38: 6.75 | W38: 9.25 | X38: 11 | Y38: 7.5 | AA38: =SUM(U38-G38) -> 1.34 | AB38: =SUM(AA38/G38) -> 0.04988831
A39: OA3B | B39: INTAKE | C39: 1 | D39: 850275.48 | E39: 114943 | F39: 8.16 | G39: 95.5 | H39: 6.62 | I39: 9.06 | J39: 10.77 | K39: 7.35 | O39: OA3B | P39: INTAKE | Q39: 1 | R39: 850275.48 | S39: 114943 | T39: 8.16 | U39: 100 | V39: 6.75 | W39: 9.25 | X39: 11 | Y39: 7.5 | AA39: =SUM(U39-G39) -> 4.5 | AB39: =SUM(AA39/G39) -> 0.047120419
A40: OA3B | B40: LEGAL ASSISTANCE | C40: 1 | D40: 850275.48 | E40: 114943 | F40: 8.16 | G40: 106.66 | H40: 6.62 | I40: 9.06 | J40: 10.77 | K40: 7.35 | O40: OA3B | P40: LEGAL ASSISTANCE | Q40: 1 | R40: 850275.48 | S40: 114943 | T40: 8.16 | U40: 111 | V40: 6.75 | W40: 9.25 | X40: 11 | Y40: 7.5 | AA40: =SUM(U40-G40) -> 4.34 | AB40: =SUM(AA40/G40) -> 0.040690043
A41: OA3B | B41: MENTAL HEALTH COUNSELING/SCREENING - INDIVIDUAL | C41: 1 | D41: 850275.48 | E41: 114943 | F41: 8.16 | G41: 107.67 | H41: 6.62 | I41: 9.06 | J41: 10.77 | K41: 7.35 | O41: OA3B | P41: MENTAL HEALTH COUNSELING/SCREENING - INDIVIDUAL | Q41: 1 | R41: 850275.48 | S41: 114943 | T41: 8.16 | U41: 113 | V41: 6.75 | W41: 9.25 | X41: 11 | Y41: 7.5 | AA41: =SUM(U41-G41) -> 5.33 | AB41: =SUM(AA41/G41) -> 0.049503111
A42: OA3B | B42: OUTREACH | C42: 1 | D42: 850275.48 | E42: 114943 | F42: 8.16 | G42: 85.51 | H42: 6.62 | I42: 9.06 | J42: 10.77 | K42: 7.35 | O42: OA3B | P42: OUTREACH | Q42: 1 | R42: 850275.48 | S42: 114943 | T42: 8.16 | U42: 88.9 | V42: 6.75 | W42: 9.25 | X42: 11 | Y42: 7.5 | AA42: =SUM(U42-G42) -> 3.39 | AB42: =SUM(AA42/G42) -> 0.039644486
A43: OA3B | B43: PET SUPPORT SERVICES | C43: 1 | D43: 850275.48 | E43: 114943 | F43: 8.16 | G43: CRS | H43: 6.62 | I43: 9.06 | J43: 10.77 | K43: 7.35 | O43: OA3B | P43: PET SUPPORT SERVICES | Q43: 1 | R43: 850275.48 | S43: 114943 | T43: 8.16 | U43: CRS | V43: CRS | W43: CRS | X43: CRS | Y43: CRS | Z43: CRS | AA43: CRS | AB43: CRS
A44: OA3B | B44: REFERRAL/ASSISTANCE | C44: 1 | D44: 850275.48 | E44: 114943 | F44: 8.16 | G44: 26.86 | H44: 6.62 | I44: 9.06 | J44: 10.77 | K44: 7.35 | O44: OA3B | P44: REFERRAL/ASSISTANCE | Q44: 1 | R44: 850275.48 | S44: 114943 | T44: 8.16 | U44: 28.2 | V44: 6.75 | W44: 9.25 | X44: 11 | Y44: 7.5 | AA44: =SUM(U44-G44) -> 1.34 | AB44: =SUM(AA44/G44) -> 0.04988831
...

Sheet Cost Analysis
A1: DOEA Cost Analysis For Non-Competitively Procured Contracts In Excess of Category II
A2: AGREEMENT INFORMATION (To be completed by the DOEA Contract Manager)
A3: CONTRACT NUMBER: | D3: EA027 | G3: TYPE OF SERVICE: | I3: Older Americans Act
A4: ORGANIZATIONAL AREA: | D4: PSA #
A5: CURRENT PROVIDER: | D5: AAA Name | G5: CONTRACT PERIOD: | I5: 01/01/2027 - 12/31/2027
G6: PREVIOUS PROVIDER: | I6: N/A
A7: PREVIOUS COST: | D7: N/A
A8: STATUTORY EXEMPTION: | G8: PROPOSED/CURRENT COST:
A10: COST ANALYSIS
A11: 1 | B11: 2 | C11: Column 3 | E11: Column 4 | F11: Column 5 | H11: 6 | I11: 7 | J11: 8
A12: Budget Category | C12: Line Item | E12: Amount | F12: % Allocated | H12: Allowable | I12: Reasonable | J12: Necessary
F13: to this Agreement
A14: Administration | B14: a. | C14: Salaries (List position titles and salaries below; add rows as necessary)
C30: SUB-TOTAL SALARIES
B31: b. | C31: Fringe Benefits
B32: c. | C32: Equipment (Purch & Lease)
B33: d. | C33: Communications & Utilities
B34: e. | C34: Travel
B35: f. | C35: Printing & Supplies
B36: g. | C36: Building Space
B37: h. | C37: Other (List below)
C55: TOTAL ADMINISTRATION
A56: Services | B56: i. | C56: Client Services (Attach details per instructions)
C57: Services
C60: TOTAL SERVICES
C61: CONTRACT TOTAL
A62: CERTIFICATION (to be signed by DOEA Contract Manager)
A63: I certify that the cost for each line item budget category has been evaluated and determined to be allowable, reasonable, and necessary as required by Section 216.3475, Florida Statutes. Documentation is on file evidencing the methodology used and the conclusions reached.
A65: Name | G65: Title
A67: Signature | G67: Date | J67: DFS Approved 06/12/2018

Sheet C.II.B.
A1: PSA: Original Submission Date: | L1: :)
A3: C.II.B. - OAA Budget Summary
A5: Instructions: Update all aqua-colored cells as appropriate. Purple cells are populated from the values entered in tab C.I.A. Carry Forward is not added at the time of the Area Plan. It will be added during Carry Forward amendments. The total Admin match must be at least 25 percent of the total funding. For titles III B, III CI, III CII, and III E, match must be at least 10 percent of the total funding (match may be pooled between III B, III CI., III C2, and III E.)
D7: (1) | F7: (2) | H7: (3) | J7: (4)
D8: Federal | F8: General | H8: Local Match/ | J8: TOTAL
D9: Funding | F9: Revenue | H9: CCE/HCE | J9: FUNDS
A10: 1. Area Agency Admin
A11: A. | B11: Current Year | D11: ='C.I.A.'!B16 -> 900792 | F11: ='C.I.A.'!D31 -> 27690 | J11: =SUM(D11:H11) -> 928482
A12: CONTRACT TOTAL | D12: =SUM(D11:D11) -> 900792 | F12: =SUM(F11:F11) -> 27690 | H12: =SUM(H11:H11) -> 0 | J12: =SUM(D12:H12) -> 928482
A13: B. | B13: CCE GR Administration | H13: ='C.I.A.'!D32 -> 68071 | J13: =SUM(D13:H13) -> 68071
A14: C. | B14: HCE GR Administration | H14: ='C.I.A.'!D34 -> 78002 | J14: =SUM(D14:H14) -> 78002
A15: D. | B15: LSP Admin | H15: ='C.I.A.'!D39*0 -> 0 | J15: =SUM(D15:H15) -> 0
A16: E. | B16: LSP Services | H16: 0 | J16: =SUM(D16:H16) -> 0
A17: F. | B17: Local Match | H17: 154191 | J17: =SUM(D17:H17) -> 154191 | M17: Admin Match Check
A18: TOTAL ADMIN | D18: =SUM(D12:D17) -> 900792 | F18: =SUM(F12:F17) -> 27690 | H18: =SUM(H12:H17) -> 300264 | J18: =SUM(D18:H18) -> 1228746 | M18: =(F18+H18)/J18 -> 0.26690138 | N18: ← Must be atleast 25%
A19: 2. Title IIIB
A20: A. | B20: Supportive Services
A21: (1) | B21: Current Year | D21: ='C.I.A.'!C16 -> 3216099 | J21: =SUM(D21:H21) -> 3216099
A22: TOTAL | D22: =SUM(D21:D21) -> 3216099 | H22: =D22/0.9*0.1 -> 357344.33 | J22: =SUM(D22:H22) -> 3573443.3 | M22: =H22/J22 -> 0.1 | N22: ← Must be atleast 10%
A23: B. | B23: IIIB Set-Aside (also included in Total) | D23: ='C.I.A.'!C20 -> 175623 | J23: =SUM(D23:H23) -> 175623
A24: C. | B24: IIIB Disaster Recovery Reserve (also included in Total) | D24: ='C.I.A.'!C21 -> 3738 | J24: =SUM(D24:H24) -> 3738
A25: 3. Title IIIC1 Nutrition Services
A26: A. | B26: Current Year | D26: ='C.I.A.'!D16 -> 711319.4 | J26: =SUM(D26:H26) -> 711319.4
A27: TOTAL | D27: =SUM(D26:D26) -> 711319.4 | H27: =D27/0.9*0.1 -> 79035.489 | J27: =SUM(D27:H27) -> 790354.89 | M27: =H27/J27 -> 0.1 | N27: ← Must be atleast 10%
A28: B. | B28: IIIC1 Disaster Recovery Reserve (also included in Total) | D28: ='C.I.A.'!D21 -> 5608 | J28: =SUM(D28:H28) -> 5608
A29: 4. Title IIIC2 Nutrition Services
A30: A. | B30: Current Year | D30: ='C.I.A.'!E16 -> 3012856.6 | J30: =SUM(D30:H30) -> 3012856.6
A31: TOTAL | D31: =SUM(D30:D30) -> 3012856.6 | H31: =D31/0.9*0.1 -> 334761.84 | J31: =SUM(D31:H31) -> 3347618.4 | M31: =H31/J31 -> 0.1 | N31: ← Must be atleast 10%
A32: B. | B32: IIIC2 Disaster Recovery Reserve (also included in Total) | D32: ='C.I.A.'!E21 -> 5608 | J32: =SUM(D32:H32) -> 5608
A33: 5. Title IIID Preventive Health
A34: A. | B34: Current Year | D34: ='C.I.A.'!G16 -> 168886 | J34: =SUM(D34:H34) -> 168886
A35: TOTAL | D35: =SUM(D34:D34) -> 168886 | J35: =SUM(D35:H35) -> 168886
A36: 6. Title IIIE Caregiver Support Services
A37: A. | B37: Current Year | D37: ='C.I.A.'!H18 -> 917260 | J37: =SUM(D37:H37) -> 917260
A38: TOTAL | D38: =SUM(D37:D37) -> 917260 | H38: =D38/0.9*0.1 -> 101917.78 | J38: =SUM(D38:H38) -> 1019177.8 | M38: =H38/J38 -> 0.1 | N38: ← Must be atleast 10%
A39: 7. NSIP
A40: A. | B40: Current Year | D40: ='C.I.A.'!I16 -> 234489 | J40: =SUM(D40:H40) -> 234489
A41: TOTAL | D41: =SUM(D40:D40) -> 234489 | J41: =SUM(D41:H41) -> 234489
A42: 8. Total Federal Current Year Funds Awarded
A43: (Sum of 1.A, 2.A(1), 3.A, 4.A, 5.A., 6.A, 7.A) | D43: =SUM(D11,D21,D26,D30,D34,D37,D40) -> 9161702
...

Sheet C.II.A.
AD1: ='[1]C.I.A.'!A1 -> PSA: 5 Original Submission Date: | AH1: 46265 | AL1: AGENDA# 18.B. | BY1: :)
AD3: C.II.A. - AREA AGENCY ON AGING OPERATING BUDGET SUMMARY AND ALLOCATIONS
AD4: NAME OF AGENCY: | AH4: Area Agency on Aging of Pasco-Pinellas, Inc.
AD5: BUDGET YEAR - 2027 | AE5: 2027
AD7: PERSONNEL SALARIES | AH7: =+AI116 -> 4409134
AD8: IN KIND SALARIES | AH8: =+AI127 -> 0
AD9: FRINGE BENEFITS | AH9: =+AI141 -> 1421187.3
AD10: TOTAL PERSONNEL COSTS | AH10: =+AI142 -> 5830321.2
AD11: TRAVEL | AH11: =+AI153 -> 61468.15
AD12: BUILDING SPACE | AH12: =+AI164 -> 504693.32
AD13: COMMUNICATIONS & UTILITIES | AH13: =+AI176 -> 77571.56
AD14: PRINTING & SUPPLIES | AH14: =+AI185 -> 43943.21
AD15: EQUIPMENT | AH15: =+AI197 -> 273685.9
AD16: OTHER | AH16: =+AI220 -> 1760983.3
AD17: REVENUE | AH17: =+AI234 -> 9024647.5
AD20: 1. PERSONNEL SALARIES
B21: Employee Information | M21: WC | N21: Add amount for WC | P21: Bonus | Q21: Oct Merit Raise | R21: Merit Raise | S21: 9 Month | T21: 3 Month | U21: Total | V21: Total | X21: % of | Z21: EMP | AD21: LAST NAME | AE21: FIRST NAME | AF21: TITLE | AG21: GROSS | AH21: TOTAL | AI21: TOTAL | AJ21: TOTAL | AK21: TITLE | AL21: OAA | AM21: TITLE | AN21: TITLE | AO21: TITLE | AP21: TITLE | AQ21: TITLE | AR21: TITLE | AS21: TITLE | AT21: TITLE | AU21: TITLE | AV21: TITLE | AW21: TITLE | AX21: TITLE | AY21: TITLE | AZ21: TITLE | BA21: TITLE | BB21: TITLE | BC21: TITLE | BD21: TITLE | BE21: LSP | BF21: LSP | BG21: LSP | BH21: LSP | BI21: CCE | BJ21: CCE | BK21: CCE | BL21: ADI | BM21: ADI | BN21: HCE | BO21: EHEAP | BP21: EHEAP | BQ21: MEDICAID | BR21: ADRC | BS21: SHINE | BT21: OTHER PROJECTS | BU21: OTHER | BV21: TOTAL | BW21: TOTAL | BX21: %
J22: TOTAL | K22: 0.75 | L22: 0.25 | N22: WC | O22: COLA/Specific Amount | P22: 500 | Q22: 9 months Oct1 - Sept30 | R22: 3 months - Oct - Dec | V22: 2027 | W22: Hourly Rate b4 10/01/26 | X22: FTE | Z22: ID | AG22: AVAILABLE | AH22: BUDGET | AI22: BUDGET | AJ22: LEAVE $ | AK22: IIIB | AL22: AAA | AM22: IIIB | AN22: IIIB | AO22: IIIB | AP22: IIIB | AQ22: IIIB | AR22: IIIB | AS22: IIIB | AT22: IIIB | AU22: IIIB | AV22: IIIB | AW22: IIID | AX22: IIID | AY22: IIID | AZ22: IIID | BA22: IIID | BB22: IIID | BC22: VII | BD22: IIIE | BE22: LSP | BF22: LSP | BG22: LSP | BH22: LSP | BI22: CCE | BJ22: CCE | BK22: CCE | BL22: ADI | BM22: ADI | BN22: HCE | BO22: EHEAP | BP22: EHEAP | BQ22: WAIVER | BR22: (MAC) | BT22: DOEA | BU22: PROJECTS | BV22: DOEA | BW22: BUDGET | BX22: BUDGET
A23: EMPLOYEE ID | B23: EMPLOYEE NAME | C23: EMPLOYEE NAME | D23: HEALTH INSURANCE ENROLLMENT | E23: HIRE/REHIRE DATE | F23: VACATION HOURS EARNED | G23: SICK HOURS EARNED | H23: WEEKS | I23: AVAILABLE WORKING HOURS | J23: LEAVE HOURS BUDGET PERIOD | K23: OF LEAVE | L23: OF LEAVE | M23: WORKERS COMPENSATION CODE | N23: CODE | O23: 0.01 | Q23: 2027 Hourly Rate | R23: 0.03 | S23: Wages for Working Hours | T23: Wages for Working Hours | U23: Wages for Working Hours | V23: TOTAL WAGES | W23: 2026 | AA23: EMPLOYEE LAST NAME | AB23: EMPLOYEE FIRST NAME | AC23: Eligible for Increase ??? | AG23: HOURS | AH23: CURRENT 2026 | AI23: PROPOSED 2027 | AJ23: IN SALARIES 2027 | AK23: SET ASIDE | AL23: ADMIN | AM23: I&R | AN23: MHSI | AO23: INTAKE | AP23: OUTREACH | AQ23: EDUCATION INDIVIDUAL | AR23: EDUCATION GROUP | AS23: TELEPHONE REASSURANCE | AT23: CHORE | AU23: TECH SUPPORT | AV23: PET SUPPORT | AW23: DIABETES SELF MANAGEMENT | AX23: CHRONIC DISEASE SELF MANAGEMENT | AY23: CHRONIC PAIN SELF MANAGEMENT | AZ23: SAVVY CAREGIVER | BA23: BINGOCIZE | BB23: MATTER OF BALANCE | BC23: VII | BD23: IIIE | BE23: ADMIN | BF23: MHSI | BG23: CHORE | BH23: I&R | BI23: ADMIN | BJ23: I&R | BK23: INTAKE | BL23: ADMIN | BM23: INTAKE | BN23: ADMIN | BO23: ADMIN | BP23: OUTREACH | BQ23: SPECIALISTS ADMIN | BS23: SHINE | BT23: (MIPPA, SMP) | BU23: NON-DOEA | BV23: ALLOCATED FUNDS | BW23: CHANGE | BX23: CHANGE
B24: Ahrens | C24: Shelly | D24: Employee | E24: 46196 | F24: 3.47 | G24: 3.47 | H24: 26 | I24: =AG24-J24 -> 1769.56 | J24: =SUM(F24+G24)*H24 -> 180.44 | K24: =J24*$K$22 -> 135.33 | L24: =J24*$L$22 -> 45.11 | M24: 8810 | N24: 0.1716 | Q24: =W24*1.03+O24 -> 24.205 | R24: =Q24*1.03 -> 24.93115 | S24: =SUM(Q24*((AG24*0.75)-K24)) -> 32124.15 | T24: =SUM(R24*((AG24*0.25)-L24)) -> 11029.291 | U24: =S24+T24 -> 43153.441 | V24: =Q24*(AG24*0.75)+R24*(AG24*0.25) -> 47553.748 | W24: 23.5 | X24: 1 | AD24: =B24 -> Ahrens | AE24: =C24 -> Shelly | AF24: Chore Coordinator | AG24: =1950*X24 -> 1950 | AH24: 0 | AI24: =SUM(AK24:BU24)-AJ24 -> 41768.383 | AJ24: =(Q24*K24)+(R24*L24) -> 4400.3068 | AK24: 0 | AL24: 0 | AM24: 0 | AN24: 0 | AO24: 0 | AP24: 0 | AQ24: 0 | AR24: 0 | AS24: 0 | AT24: 36934.95 | AU24: 0 | AV24: 0 | AW24: 0 | AX24: 0 | AY24: 0 | AZ24: 0 | BA24: 0 | BB24: 0 | BC24: 0 | BD24: 0 | BE24: 0 | BF24: 0 | BG24: 9233.74 | BH24: 0 | BI24: 0 | BJ24: 0 | BK24: 0 | BL24: 0 | BM24: 0 | BN24: 0 | BO24: 0 | BQ24: 0 | BR24: 0 | BS24: 0 | BT24: 0 | BU24: 0 | BV24: =SUM(AK24:BU24)-BU24 -> 46168.69 | BW24: =AI24-AH24 -> 41768.383 | BX24: =100%-(AH24/AI24) -> 1
A25: 213 | B25: Alvarado | C25: Francisco | D25: Employee + Spouse | E25: 44676 | F25: 5.19 | G25: 3.47 | H25: 26 | I25: =AG25-J25 -> 1724.84 | J25: =SUM(F25+G25)*H25 -> 225.16 | K25: =J25*$K$22 -> 168.87 | L25: =J25*$L$22 -> 56.29 | M25: 8810 | N25: 0.1716 | Q25: =W25*1.03+O25 -> 47.5654 | R25: =Q25*1.03 -> 48.992362 | S25: =SUM(Q25*((AG25*0.75)-K25)) -> 61532.028 | T25: =SUM(R25*((AG25*0.25)-L25)) -> 21125.996 | U25: =S25+T25 -> 82658.025 | V25: =Q25*(AG25*0.75)+R25*(AG25*0.25) -> 93448.174 | W25: 46.18 | X25: 1 | Y25: 1015 | Z25: =A25 -> 213 | AA25: =B25 -> Alvarado | AB25: =C25 -> Francisco | AD25: =AA25 -> Alvarado | AE25: =AB25 -> Francisco | AF25: IT Manager | AG25: =1950*X25 -> 1950 | AH25: 82341 | AI25: =SUM(AK25:BU25)-AJ25 -> 82658.031 | AJ25: =(Q25*K25)+(R25*L25) -> 10790.149 | AK25: 67282.69 | AL25: 934.48 | AM25: 4672.41 | AN25: 0 | AO25: 0 | AP25: 0 | AQ25: 0 | AR25: 0 | AS25: 0 | AT25: 0 | AU25: 0 | AV25: 0 | AW25: 0 | AX25: 0 | AY25: 0 | AZ25: 0 | BA25: 0 | BB25: 0 | BC25: 0 | BD25: 0 | BE25: 0 | BF25: 0 | BG25: 0 | BH25: 0 | BI25: 0 | BJ25: 0 | BK25: 8410.34 | BL25: 0 | BM25: 7475.85 | BN25: 0 | BO25: 4672.41 | BQ25: 0 | BR25: 0 | BS25: 0 | BT25: 0 | BU25: 0 | BV25: =SUM(AK25:BU25)-BU25 -> 93448.18 | BW25: =AI25-AH25 -> 317.03085 | BX25: =100%-(AH25/AI25) -> 0.0038354512
A26: 196 | B26: Aly | C26: Edita | D26: None | E26: 44389 | F26: 5.19 | G26: 3.47 | H26: 26 | I26: =AG26-J26 -> 1724.84 | J26: =SUM(F26+G26)*H26 -> 225.16 | K26: =J26*$K$22 -> 168.87 | L26: =J26*$L$22 -> 56.29 | M26: 8810 | N26: 0.1716 | Q26: =W26*1.03+O26 -> 31.9094 | R26: =Q26*1.03 -> 32.866682 | S26: =SUM(Q26*((AG26*0.75)-K26)) -> 41278.957 | T26: =SUM(R26*((AG26*0.25)-L26)) -> 14172.442 | U26: =S26+T26 -> 55451.399 | V26: =Q26*(AG26*0.75)+R26*(AG26*0.25) -> 62690.005 | W26: 30.98 | X26: 1 | Y26: 1005 | Z26: =A26 -> 196 | AA26: =B26 -> Aly | AB26: =C26 -> Edita | AD26: =AA26 -> Aly | AE26: =AB26 -> Edita | AF26: Grant Accountant | AG26: =1950*X26 -> 1950 | AH26: 55236 | AI26: =SUM(AK26:BU26)-AJ26 -> 55451.394 | AJ26: =(Q26*K26)+(R26*L26) -> 7238.6059 | AK26: 0 | AL26: 3761.4 | AM26: 2507.6 | AN26: 0 | AO26: 1880.7 | AP26: 0 | AQ26: 0 | AR26: 0 | AS26: 0 | AT26: 2507.6 | AU26: 0 | AV26: 0 | AW26: 0 | AX26: 0 | AY26: 2507.6 | AZ26: 0 | BA26: 0 | BB26: 1253.8 | BC26: 0 | BD26: 0 | BE26: 0 | BF26: 0 | BG26: 1880.7 | BH26: 0 | BI26: 0 | BJ26: 0 | BK26: 8776.6 | BL26: 0 | BM26: 0 | BN26: 0 | BO26: 0 | BQ26: 0 | BR26: 0 | BS26: 10657.3 | BT26: =15672.5+11284.2 -> 26956.7 | BU26: 0 | BV26: =SUM(AK26:BU26)-BU26 -> 62690 | BW26: =AI26-AH26 -> 215.39409 | BX26: =100%-(AH26/AI26) -> 0.0038843765
A27: 246 | B27: Arciniegas | C27: Jessica | D27: Employee+Spouse | E27: 45054 | F27: 3.47 | G27: 3.47 | H27: 26 | I27: =AG27-J27 -> 1769.56 | J27: =SUM(F27+G27)*H27 -> 180.44 | K27: =J27*$K$22 -> 135.33 | L27: =J27*$L$22 -> 45.11 | M27: 8810 | N27: 0.1716 | Q27: =W27*1.03+O27 -> 25.0084 | R27: =Q27*1.03 -> 25.758652 | S27: =SUM(Q27*((AG27*0.75)-K27)) -> 33190.398 | T27: =SUM(R27*((AG27*0.25)-L27)) -> 11395.37 | U27: =S27+T27 -> 44585.768 | V27: =Q27*(AG27*0.75)+R27*(AG27*0.25) -> 49132.128 | W27: 24.28 | X27: 1 | Y27: 1005 | Z27: =A27 -> 246 | AA27: =B27 -> Arciniegas | AB27: =C27 -> Jessica | AD27: =AA27 -> Arciniegas | AE27: =AB27 -> Jessica | AF27: HR Generalist | AG27: =1950*X27 -> 1950 | AH27: 43282 | AI27: =SUM(AK27:BU27)-AJ27 -> 44585.75 | AJ27: =(Q27*K27)+(R27*L27) -> 4546.3596 | AK27: 0 | AL27: 20144.17 | AM27: 7861.14 | AN27: 491.32 | AO27: 0 | AP27: 982.64 | AQ27: 0 | AR27: 0 | AS27: 0 | AT27: 0 | AU27: 0 | AV27: 0 | AW27: 0 | AX27: 0 | AY27: 0 | AZ27: 0 | BA27: 0 | BB27: 0 | BC27: 0 | BD27: 1473.96 | BE27: 0 | BF27: 491.32 | BG27: 0 | BH27: 0 | BI27: 0 | BJ27: 491.32 | BK27: 12283.03 | BL27: 0 | BM27: 4913.21 | BN27: 0 | BO27: 0 | BQ27: 0 | BS27: 0 | BT27: 0 | BU27: 0 | BV27: =SUM(AK27:BU27)-BU27 -> 49132.11 | BW27: =AI27-AH27 -> 1303.7504 | BX27: =100%-(AH27/AI27) -> 0.029241415
A28: 149 | B28: Arias | C28: Michelle | D28: None | E28: 45082 | F28: 3.47 | G28: 3.47 | H28: 26 | I28: =AG28-J28 -> 1769.56 | J28: =SUM(F28+G28)*H28 -> 180.44 | K28: =J28*$K$22 -> 135.33 | L28: =J28*$L$22 -> 45.11 | M28: 8742 | N28: 0.354 | Q28: =W28*1.03+O28 -> 26.5225 | R28: =Q28*1.03 -> 27.318175 | S28: =SUM(Q28*((AG28*0.75)-K28)) -> 35199.866 | T28: =SUM(R28*((AG28*0.25)-L28)) -> 12085.287 | U28: =S28+T28 -> 47285.154 | V28: =Q28*(AG28*0.75)+R28*(AG28*0.25) -> 52106.767 | W28: 25.75 | X28: 1 | Y28: 1065 | Z28: =A28 -> 149 | AA28: =B28 -> Arias | AB28: =C28 -> Michelle | AD28: =AA28 -> Arias | AE28: =AB28 -> Michelle | AF28: VA Case Manager | AG28: =1950*X28 -> 1950 | AH28: 0 | AI28: =SUM(AK28:BU28)-AJ28 -> 0 | AJ28: =SUM(AL28:BV28)-AK28 -> 52106.76 | AK28: 0 | AL28: 0 | AM28: 0 | AN28: 0 | AO28: 0 | AP28: 0 | AQ28: 0 | AR28: 0 | AS28: 0 | AT28: 0 | AU28: 0 | AV28: 0 | AW28: 0 | AX28: 0 | AY28: 0 | AZ28: 0 | BA28: 0 | BB28: 0 | BC28: 0 | BD28: 0 | BE28: 0 | BF28: 0 | BG28: 0 | BH28: 0 | BI28: 0 | BJ28: 0 | BK28: 0 | BL28: 0 | BM28: 0 | BN28: 0 | BO28: 0 | BQ28: 0 | BS28: 0 | BT28: 0 | BU28: =39080.07+13026.69 -> 52106.76 | BV28: =SUM(AK28:BU28)-BU28 -> 0 | BW28: =AI28-AH28 -> 0 | BX28: 0
B29: Armstrong | C29: Cheyenne | Y29: 1039 | AA29: =B29 -> Armstrong | AB29: =C29 -> Cheyenne | AD29: =AA29 -> Armstrong | AE29: =AB29 -> Cheyenne | AF29: Medicaid Benefits Counselor | AG29: =1950*X29 -> 0 | AH29: 35657 | AI29: =SUM(AK29:BU29)-AJ29 -> 0 | AJ29: =(Q29*K29)+(R29*L29) -> 0 | AK29: 0 | AL29: 0 | AM29: 0 | AN29: 0 | AO29: 0 | AP29: 0 | AQ29: 0 | AR29: 0 | AS29: 0 | AT29: 0 | AU29: 0 | AV29: 0 | AW29: 0 | AX29: 0 | AY29: 0 | AZ29: 0 | BA29: 0 | BB29: 0 | BC29: 0 | BD29: 0 | BE29: 0 | BF29: 0 | BG29: 0 | BH29: 0 | BI29: 0 | BJ29: 0 | BK29: 0 | BL29: 0 | BM29: 0 | BN29: 0 | BO29: 0 | BQ29: 0 | BS29: 0 | BT29: 0 | BU29: 0 | BV29: =SUM(AK29:BU29)-BU29 -> 0 | BW29: =AI29-AH29 -> -35657 | BX29: 0
A30: 9 | B30: Ayers | C30: Hubert | D30: Employee | E30: 34526 | F30: 6.92 | G30: 3.47 | H30: 26 | I30: =AG30-J30 -> 1679.86 | J30: =SUM(F30+G30)*H30 -> 270.14 | K30: =J30*$K$22 -> 202.605 | L30: =J30*$L$22 -> 67.535 | M30: 8810 | N30: 0.1716 | Q30: =W30 -> 47.802267 | R30: =Q30 -> 47.802267 | S30: =SUM(Q30*((AG30*0.75)-K30)) -> 60225.837 | T30: =SUM(R30*((AG30*0.25)-L30)) -> 20075.279 | U30: =S30+T30 -> 80301.116 | V30: =Q30*(AG30*0.75)+R30*(AG30*0.25) -> 93214.42 | W30: =3585.17/75 -> 47.802267 | X30: 1 | Y30: 1005 | Z30: =A30 -> 9 | AA30: =B30 -> Ayers | AB30: =C30 -> Hubert | AD30: =AA30 -> Ayers | AE30: =AB30 -> Hubert | AF30: Finance Manager | AG30: =1950*X30 -> 1950 | AH30: 83326 | AI30: =SUM(AK30:BU30)-AJ30 -> 80296.696 | AJ30: =(Q30*K30)+(R30*L30) -> 12913.304 | AK30: 0 | AL30: 39148.2 | AM30: 7456.8 | AN30: 0 | AO30: 0 | AP30: 0 | AQ30: 0 | AR30: 0 | AS30: 0 | AT30: 2796.3 | AU30: 0 | AV30: 0 | AW30: 0 | AX30: 0 | AY30: 0 | AZ30: 0 | BA30: 0 | BB30: 0 | BC30: 0 | BD30: 1864.2 | BE30: 0 | BF30: 0 | BG30: 0 | BH30: 0 | BI30: 2796.3 | BJ30: 0 | BK30: 18642 | BL30: 0 | BM30: 9321 | BN30: 932.1 | BO30: 4660.5 | BQ30: 0 | BS30: 0 | BT30: 0 | BU30: =3728.4+1864.2 -> 5592.6 | BV30: =SUM(AK30:BU30)-BU30 -> 87617.4 | BW30: =AI30-AH30 -> -3029.3043 | BX30: =100%-(AH30/AI30) -> -0.037726388
A31: 80 | B31: Barrows | C31: Tracy | D31: Employee + Spouse | E31: 38607 | F31: 6.92 | G31: 3.47 | H31: 26 | I31: =AG31-J31 -> 1679.86 | J31: =SUM(F31+G31)*H31 -> 270.14 | K31: =J31*$K$22 -> 202.605 | L31: =J31*$L$22 -> 67.535 | M31: 8810 | N31: 0.1716 | Q31: =W31*1.03 -> 45.1655 | R31: =Q31*1.03 -> 46.520465 | S31: =SUM(Q31*((AG31*0.75)-K31)) -> 56903.788 | T31: =SUM(R31*((AG31*0.25)-L31)) -> 19536.967 | U31: =S31+T31 -> 76440.755 | V31: =Q31*(AG31*0.75)+R31*(AG31*0.25) -> 88733.27 | W31: 43.85 | X31: 1 | Y31: 1010 | Z31: =A31 -> 80 | AA31: =B31 -> Barrows | AB31: =C31 -> Tracy | AD31: =AA31 -> Barrows | AE31: =AB31 -> Tracy | AF31: ADRC Director | AG31: =1950*X31 -> 1950 | AH31: 66183 | AI31: =SUM(AK31:BU31)-AJ31 -> 76432.964 | AJ31: =(Q31*K31)+(R31*L31) -> 12292.516 | AK31: 7098.04 | AL31: 1774.51 | AM31: 22181.37 | AN31: 0 | AO31: 13308.82 | AP31: 0 | AQ31: 0 | AR31: 0 | AS31: 0 | AT31: 0 | AU31: 0 | AV31: 0 | AW31: 0 | AX31: 0 | AY31: 0 | AZ31: 0 | BA31: 0 | BB31: 0 | BC31: 0 | BD31: 0 | BE31: 0 | BF31: 0 | BG31: 0 | BH31: 6210.78 | BI31: 0 | BJ31: 20406.86 | BK31: 17745.1 | BL31: 0 | BM31: 0 | BN31: 0 | BO31: 0 | BQ31: 0 | BS31: 0 | BT31: 0 | BU31: 0 | BV31: =SUM(AK31:BU31)-BU31 -> 88725.48 | BW31: =AI31-AH31 -> 10249.964 | BX31: =100%-(AH31/AI31) -> 0.13410397
B32: Bowers | C32: Terry | D32: Employee | E32: 46142 | F32: 3.47 | G32: 3.47 | H32: 26 | I32: =AG32-J32 -> 1769.56 | J32: =SUM(F32+G32)*H32 -> 180.44 | K32: =J32*$K$22 -> 135.33 | L32: =J32*$L$22 -> 45.11 | M32: 8810 | N32: 0.1716 | Q32: =W32*1.03+O32 -> 33.2793 | R32: =Q32*1.03 -> 34.277679 | S32: =SUM(Q32*((AG32*0.75)-K32)) -> 44167.289 | T32: =SUM(R32*((AG32*0.25)-L32)) -> 15164.102 | U32: =S32+T32 -> 59331.391 | V32: =Q32*(AG32*0.75)+R32*(AG32*0.25) -> 65381.345 | W32: 32.31 | X32: 1 | AD32: =B32 -> Bowers | AE32: =C32 -> Terry | AF32: SHINE Program Manager | AG32: =1950*X32 -> 1950 | AH32: 0 | AI32: =SUM(AK32:BU32)-AJ32 -> 59331.386 | AJ32: =(Q32*K32)+(R32*L32) -> 6049.9538 | AK32: 0 | AL32: 0 | AM32: 0 | AN32: 0 | AO32: 0 | AP32: 0 | AQ32: 0 | AR32: 0 | AS32: 0 | AT32: 0 | AU32: 0 | AV32: 0 | AW32: 0 | AX32: 0 | AY32: 0 | AZ32: 0 | BA32: 0 | BB32: 0 | BC32: 0 | BD32: 0 | BE32: 0 | BF32: 0 | BG32: 0 | BH32: 0 | BI32: 0 | BJ32: 0 | BK32: 0 | BL32: 0 | BM32: 0 | BN32: 0 | BO32: 0 | BQ32: 0 | BS32: 39228.81 | BT32: =19614.4+6538.13 -> 26152.53 | BU32: 0 | BV32: =SUM(AK32:BU32)-BU32 -> 65381.34 | BW32: =AI32-AH32 -> 59331.386 | BX32: =100%-(AH32/AI32) -> 1
A33: 231 | B33: Brown | C33: Sandra | D33: Employee | E33: 44935 | F33: 3.47 | G33: 3.47 | H33: 26 | I33: =AG33-J33 -> 1769.56 | J33: =SUM(F33+G33)*H33 -> 180.44 | K33: =J33*$K$22 -> 135.33 | L33: =J33*$L$22 -> 45.11 | M33: 8810 | N33: 0.1716 | Q33: =W33*1.03 -> 46.1852 | R33: =Q33*1.03 -> 47.570756 | S33: =SUM(Q33*((AG33*0.75)-K33)) -> 61295.612 | T33: =SUM(R33*((AG33*0.25)-L33)) -> 21044.827 | U33: =S33+T33 -> 82340.439 | V33: =Q33*(AG33*0.75)+R33*(AG33*0.25) -> 90736.599 | W33: 44.84 | X33: 1 | Y33: 1005 | Z33: =A33 -> 231 | AA33: =B33 -> Brown | AB33: =C33 -> Sandra | AD33: =AA33 -> Brown | AE33: =AB33 -> Sandra | AF33: Human Resources Manager | AG33: =1950*X33 -> 1950 | AH33: 79935 | AI33: =SUM(AK33:BU33)-AJ33 -> 82340.44 | AJ33: =(Q33*K33)+(R33*L33) -> 8396.1599 | AK33: 0 | AL33: 90736.6 | AM33: 0 | AN33: 0 | AO33: 0 | AP33: 0 | AQ33: 0 | AR33: 0 | AS33: 0 | AT33: 0 | AU33: 0 | AV33: 0 | AW33: 0 | AX33: 0 | AY33: 0 | AZ33: 0 | BA33: 0 | BB33: 0 | BC33: 0 | BD33: 0 | BE33: 0 | BF33: 0 | BG33: 0 | BH33: 0 | BI33: 0 | BJ33: 0 | BK33: 0 | BL33: 0 | BM33: 0 | BN33: 0 | BO33: 0 | BQ33: 0 | BS33: 0 | BT33: 0 | BU33: 0 | BV33: =SUM(AK33:BU33)-BU33 -> 90736.6 | BW33: =AI33-AH33 -> 2405.4401 | BX33: =100%-(AH33/AI33) -> 0.02921335
B34: Brown | C34: Jackie | D34: Employee | E34: 46042 | F34: 3.47 | G34: 3.47 | H34: 26 | I34: =AG34-J34 -> 1769.56 | J34: =SUM(F34+G34)*H34 -> 180.44 | K34: =J34*$K$22 -> 135.33 | L34: =J34*$L$22 -> 45.11 | M34: 8810 | N34: 0.1716 | O34: 1 | Q34: =(W34+O34)*1.03 -> 23.175 | R34: =Q34*1.03 -> 23.87025 | S34: =SUM(Q34*((AG34*0.75)-K34)) -> 30757.165 | T34: =SUM(R34*((AG34*0.25)-L34)) -> 10559.96 | U34: =S34+T34 -> 41317.125 | V34: =Q34*(AG34*0.75)+R34*(AG34*0.25) -> 45530.184 | W34: 21.5 | X34: 1 | AD34: =B34 -> Brown | AE34: =C34 -> Jackie | AF34: Medicaid Benefits Counselor | AG34: =1950*X34 -> 1950 | AH34: 0 | AI34: =SUM(AK34:BU34)-AJ34 -> 41317.12 | AJ34: =(Q34*K34)+(R34*L34) -> 4213.0597 | AK34: 0 | AL34: 0 | AM34: 0 | AN34: 0 | AO34: 0 | AP34: 0 | AQ34: 0 | AR34: 0 | AS34: 0 | AT34: 0 | AU34: 0 | AV34: 0 | AW34: 0 | AX34: 0 | AY34: 0 | AZ34: 0 | BA34: 0 | BB34: 0 | BC34: 0 | BD34: 0 | BE34: 0 | BF34: 0 | BG34: 0 | BH34: 0 | BI34: 0 | BJ34: 0 | BK34: 0 | BL34: 0 | BM34: 0 | BN34: 0 | BO34: 0 | BQ34: 0 | BR34: 45530.18 | BS34: 0 | BT34: 0 | BU34: 0 | BV34: =SUM(AK34:BU34)-BU34 -> 45530.18 | BW34: =AI34-AH34 -> 41317.12 | BX34: =100%-(AH34/AI34) -> 1
B35: Bursch | C35: Mary Kathryn | D35: Employee | E35: 45678 | F35: 3.47 | G35: 3.47 | H35: 26 | I35: =AG35-J35 -> 1769.56 | J35: =SUM(F35+G35)*H35 -> 180.44 | K35: =J35*$K$22 -> 135.33 | L35: =J35*$L$22 -> 45.11 | M35: 8810 | N35: 0.1716 | Q35: =W35*1.03 -> 30.4674 | R35: =Q35*1.03 -> 31.381422 | S35: =SUM(Q35*((AG35*0.75)-K35)) -> 40435.419 | T35: =SUM(R35*((AG35*0.25)-L35)) -> 13882.827 | U35: =S35+T35 -> 54318.247 | V35: =Q35*(AG35*0.75)+R35*(AG35*0.25) -> 59857.016 | W35: 29.58 | X35: 1 | Y35: 1014 | Z35: =A35 -> 0 | AA35: Bursch | AB35: Mary Kathryn | AD35: =AA35 -> Bursch | AE35: =AB35 -> Mary Kathryn | AF35: Outreach Manager | AG35: =1950*X35 -> 1950 | AH35: 51047 | AI35: =SUM(AK35:BU35)-AJ35 -> 54318.241 | AJ35: =(Q35*K35)+(R35*L35) -> 5538.7692 | AK35: 0 | AL35: 0 | AM35: 0 | AN35: 0 | AO35: 0 | AP35: 29329.94 | AQ35: 1197.14 | AR35: 8978.55 | AS35: 0 | AT35: 0 | AU35: 0 | AV35: 0 | AW35: 0 | AX35: 0 | AY35: 0 | AZ35: 0 | BA35: 0 | BB35: 0 | BC35: 13767.11 | BD35: 0 | BE35: 0 | BF35: 0 | BG35: 0 | BH35: 0 | BI35: 0 | BJ35: 0 | BK35: 0 | BL35: 0 | BM35: 0 | BN35: 0 | BO35: 0 | BQ35: 0 | BS35: 4189.99 | BT35: 2394.28 | BU35: 0 | BV35: =SUM(AK35:BU35)-BU35 -> 59857.01 | BW35: =AI35-AH35 -> 3271.2408 | BX35: =100%-(AH35/AI35) -> 0.060223615
